BEGIN:VCALENDAR
VERSION:2.0
PRODID:-//Consortium for Early Learning Services - ECPv6.15.20//NONSGML v1.0//EN
CALSCALE:GREGORIAN
METHOD:PUBLISH
X-ORIGINAL-URL:https://consortiumels.org
X-WR-CALDESC:Events for Consortium for Early Learning Services
REFRESH-INTERVAL;VALUE=DURATION:PT1H
X-Robots-Tag:noindex
X-PUBLISHED-TTL:PT1H
BEGIN:VTIMEZONE
TZID:America/Los_Angeles
BEGIN:DAYLIGHT
TZOFFSETFROM:-0800
TZOFFSETTO:-0700
TZNAME:PDT
DTSTART:20240310T100000
END:DAYLIGHT
BEGIN:STANDARD
TZOFFSETFROM:-0700
TZOFFSETTO:-0800
TZNAME:PST
DTSTART:20241103T090000
END:STANDARD
BEGIN:DAYLIGHT
TZOFFSETFROM:-0800
TZOFFSETTO:-0700
TZNAME:PDT
DTSTART:20250309T100000
END:DAYLIGHT
BEGIN:STANDARD
TZOFFSETFROM:-0700
TZOFFSETTO:-0800
TZNAME:PST
DTSTART:20251102T090000
END:STANDARD
BEGIN:DAYLIGHT
TZOFFSETFROM:-0800
TZOFFSETTO:-0700
TZNAME:PDT
DTSTART:20260308T100000
END:DAYLIGHT
BEGIN:STANDARD
TZOFFSETFROM:-0700
TZOFFSETTO:-0800
TZNAME:PST
DTSTART:20261101T090000
END:STANDARD
END:VTIMEZONE
BEGIN:VEVENT
DTSTART;TZID=America/Los_Angeles:20251007T180000
DTEND;TZID=America/Los_Angeles:20251007T200000
DTSTAMP:20260425T210511
CREATED:20250820T043419Z
LAST-MODIFIED:20250910T171614Z
UID:10000264-1759860000-1759867200@consortiumels.org
SUMMARY:QCC-Returning\, Workforce Pathways Stipend Program (English) Virtual
DESCRIPTION:QCC-Returning\, Workforce Pathways Stipend Program (English) Virtual\nQCC\, Workforce Pathways Stipend Program Returning Participants\nReturning participants are those that received a stipend check last program year 2024-2025. Everyone else is new. \nAt this meeting\, participants will: \n\nLearn about the Workforce Pathways Stipend Program (WPSP) Requirements\nComplete a WPSP Application\nComplete a Professional Educational and Development Plan\n\nPre-Registration is Mandatory for all meetings\nCheck-in 30 min before the meeting.\n\nNo cost to attend\nOnly registered participants may attend\nSpace is limited\, register early\nPlease arrive on time! Meetings begin promptly at scheduled times\nParticipants arriving late will not be admitted \nMeeting will not count towards training hours for stipend program
URL:https://consortiumels.org/event/qcc-returning-workforce-pathways-stipend-program-english-virtual/
LOCATION:CA
CATEGORIES:Meetings,Stipend Enrollment,Trainings
ATTACH;FMTTYPE=image/webp:https://consortiumels.org/wp-content/uploads/2025/07/Events-header.avif
END:VEVENT
END:VCALENDAR