BEGIN:VCALENDAR
VERSION:2.0
PRODID:-//Consortium for Early Learning Services - ECPv6.15.20//NONSGML v1.0//EN
CALSCALE:GREGORIAN
METHOD:PUBLISH
X-ORIGINAL-URL:https://consortiumels.org
X-WR-CALDESC:Events for Consortium for Early Learning Services
REFRESH-INTERVAL;VALUE=DURATION:PT1H
X-Robots-Tag:noindex
X-PUBLISHED-TTL:PT1H
BEGIN:VTIMEZONE
TZID:America/Los_Angeles
BEGIN:DAYLIGHT
TZOFFSETFROM:-0800
TZOFFSETTO:-0700
TZNAME:PDT
DTSTART:20250309T100000
END:DAYLIGHT
BEGIN:STANDARD
TZOFFSETFROM:-0700
TZOFFSETTO:-0800
TZNAME:PST
DTSTART:20251102T090000
END:STANDARD
BEGIN:DAYLIGHT
TZOFFSETFROM:-0800
TZOFFSETTO:-0700
TZNAME:PDT
DTSTART:20260308T100000
END:DAYLIGHT
BEGIN:STANDARD
TZOFFSETFROM:-0700
TZOFFSETTO:-0800
TZNAME:PST
DTSTART:20261101T090000
END:STANDARD
BEGIN:DAYLIGHT
TZOFFSETFROM:-0800
TZOFFSETTO:-0700
TZNAME:PDT
DTSTART:20270314T100000
END:DAYLIGHT
BEGIN:STANDARD
TZOFFSETFROM:-0700
TZOFFSETTO:-0800
TZNAME:PST
DTSTART:20271107T090000
END:STANDARD
END:VTIMEZONE
BEGIN:VEVENT
DTSTART;TZID=America/Los_Angeles:20260410T080000
DTEND;TZID=America/Los_Angeles:20260410T170000
DTSTAMP:20260425T164604
CREATED:20260410T180827Z
LAST-MODIFIED:20260421T023613Z
UID:10000346-1775808000-1775840400@consortiumels.org
SUMMARY:LPC Meeting - April 2026
DESCRIPTION:LOCAL CHILD CARE AND DEVELOPMENT PLANNING COUNCIL (LPC)\nSPECIAL MEETING NOTICE\nTuesday\, April 28\, 2026\n9:30 a.m. – 11:30 a.m. \nRiverside County Office of Education Center-Lake Elsinore 575 Chaney Street\nLake Elsinore\, California\, 92530 \n(Administration building is on the corner of Minthorn and Chaney – the front of the building in the faces Minthorn.)\nThis is a Special Meeting for the presentation\, public hearing and approval of the Riverside County zip code priority report to be submitted to the state. Agenda and attachments will be sent to LPC members and posted on CELS website 72 hours prior to April 24\, 2026. \nDownload Agenda here \nMEMBERS OF THE PUBLIC ARE WELCOME TO ATTEND \nFor any questions or concerns please contact\nLPC Coordinator Kate Hamaker
URL:https://consortiumels.org/event/lpc-meeting-april-2026/
LOCATION:575 Chaney Street Lake Elsinore\, California\, 92530\, 575 Chaney Street\, Lake Elsinore\, CA\, 92530\, United States
CATEGORIES:LPC Meeting
ATTACH;FMTTYPE=image/webp:https://consortiumels.org/wp-content/uploads/2025/07/Events-header.avif
END:VEVENT
END:VCALENDAR