BEGIN:VCALENDAR
VERSION:2.0
PRODID:-//Consortium for Early Learning Services - ECPv6.15.20//NONSGML v1.0//EN
CALSCALE:GREGORIAN
METHOD:PUBLISH
X-WR-CALNAME:Consortium for Early Learning Services
X-ORIGINAL-URL:https://consortiumels.org
X-WR-CALDESC:Events for Consortium for Early Learning Services
REFRESH-INTERVAL;VALUE=DURATION:PT1H
X-Robots-Tag:noindex
X-PUBLISHED-TTL:PT1H
BEGIN:VTIMEZONE
TZID:America/Los_Angeles
BEGIN:DAYLIGHT
TZOFFSETFROM:-0800
TZOFFSETTO:-0700
TZNAME:PDT
DTSTART:20240310T100000
END:DAYLIGHT
BEGIN:STANDARD
TZOFFSETFROM:-0700
TZOFFSETTO:-0800
TZNAME:PST
DTSTART:20241103T090000
END:STANDARD
BEGIN:DAYLIGHT
TZOFFSETFROM:-0800
TZOFFSETTO:-0700
TZNAME:PDT
DTSTART:20250309T100000
END:DAYLIGHT
BEGIN:STANDARD
TZOFFSETFROM:-0700
TZOFFSETTO:-0800
TZNAME:PST
DTSTART:20251102T090000
END:STANDARD
BEGIN:DAYLIGHT
TZOFFSETFROM:-0800
TZOFFSETTO:-0700
TZNAME:PDT
DTSTART:20260308T100000
END:DAYLIGHT
BEGIN:STANDARD
TZOFFSETFROM:-0700
TZOFFSETTO:-0800
TZNAME:PST
DTSTART:20261101T090000
END:STANDARD
END:VTIMEZONE
BEGIN:VEVENT
DTSTART;TZID=America/Los_Angeles:20250823T080000
DTEND;TZID=America/Los_Angeles:20250823T160000
DTSTAMP:20260425T142700
CREATED:20250617T181557Z
LAST-MODIFIED:20250617T182507Z
UID:10000218-1755936000-1755964800@consortiumels.org
SUMMARY:Universal Prekindergarten Institute
DESCRIPTION:Save the Date: Universal Prekindergarten Institute hosted by Riverside County Office of Education
URL:https://consortiumels.org/event/universal-prekindergarten-institute/2025-08-23/
CATEGORIES:Meetings,Trainings
END:VEVENT
BEGIN:VEVENT
DTSTART;TZID=America/Los_Angeles:20250823T083000
DTEND;TZID=America/Los_Angeles:20250823T150000
DTSTAMP:20260425T142700
CREATED:20250803T223529Z
LAST-MODIFIED:20250803T224121Z
UID:10000250-1755937800-1755961200@consortiumels.org
SUMMARY:RCOE - Full day of workshops
DESCRIPTION: Universal Prekindergarten Institute \nJoin Early Education Programs\, in partnership with 21CSLA\, for a full day of workshops to study leadership skills and more to support fair and positive early learning instruction. \nThese trainings are FREE to all educators within Riverside County! \nAudience: Educators and Leaders of Prekindergarten through 3rd grade within Riverside County. \nLocation:  \nRiverside County Office of Education Conference Center \n4280 Brockton Avenue \nRiverside\, CA 92501 \n  \nSaturday\, August 23\, 2025  \n8:30 a.m. – 3:00 p.m.  \nTOPICS:  \n\nEquitable TK Classrooms for Social-Emotional Development Presented by 21CSLA \nUniversal Design for Learning Presented by Riverside County Office of Education \nPlay-Based Learning Presented by Riverside County Office of Education \n\n  \nRegister at:  \nhttps://events.bizzabo.com/734803 \nRegistration Deadline: August 22\, 2025\, 5:00 p.m. \n  \nFor additional information\, please contact:\nMallory Centeno\, Program Development Specialist | mcenteno@rcoe.us \nMaria Escobedo-Madrid\, Program Development Specialist | mescobedo-madrid@rcoe.us \nJessica Valentin\, Office Secretary | jvalentin@rcoe.us
URL:https://consortiumels.org/event/rcoe-full-day-of-workshops/
CATEGORIES:UPK Workshop
ATTACH;FMTTYPE=image/jpeg:https://consortiumels.org/wp-content/uploads/2025/08/Aug2025UPKInstituteFlyer_header.avif
END:VEVENT
BEGIN:VEVENT
DTSTART;TZID=America/Los_Angeles:20250823T083000
DTEND;TZID=America/Los_Angeles:20250823T163000
DTSTAMP:20260425T142700
CREATED:20250627T035255Z
LAST-MODIFIED:20250627T035255Z
UID:10000224-1755937800-1755966600@consortiumels.org
SUMMARY:Young Boys of Color Trainings
DESCRIPTION:Creating Equitable Early Learning Environments for Young Boys of Color: Disrupting Disproportionate Outcomes.\nThis training celebrates the unique talents\, strengths\, and contributions of boys of color\, recognizing their brilliance and resilience in the face of societal changes. Educators will have the opportunity to learn more about creating supportive environments and empowering boys of color to thrive academically\, socially\, and emotionally. \nRegister Here\nTraining Details: \n• Type: In-person \n• Funding: Fully funded by CDSS \n• When: August 23\, 2025 – 8:30am – 4:30pm \n• Materials: All training materials will be provided at no cost \n• Support: WestEd will facilitate the training and limited stipends will be available to family childcare participants. \nContact: For any additional questions please contact cpin@wested.org.
URL:https://consortiumels.org/event/young-boys-of-color-trainings/2025-08-23/
CATEGORIES:Trainings
ATTACH;FMTTYPE=image/jpeg:https://consortiumels.org/wp-content/uploads/2025/06/YoungBoys_header.avif
END:VEVENT
BEGIN:VEVENT
DTSTART;TZID=America/Los_Angeles:20250823T090000
DTEND;TZID=America/Los_Angeles:20250823T110000
DTSTAMP:20260425T142700
CREATED:20250801T005737Z
LAST-MODIFIED:20250820T045442Z
UID:10000236-1755939600-1755946800@consortiumels.org
SUMMARY:QCC-Returning\, Workforce Pathways Stipend Program (Spanish)
DESCRIPTION:QCC\, Workforce Pathways Stipend Program Returning Participants (Spanish)\nReturning participants are those that received a stipend check last program year 2024-2025. Everyone else is new. \nEnrollment Meetings  2025 – 2026 \nAt this meeting\, participants will: \n\nLearn about the Workforce Pathways Stipend Program (WPSP) Requirements\nComplete a WPSP Application \nComplete a Professional Educational and Development Plan \n\nPre-Registration is Mandatory for all meetings\nCheck-in 30 min before the meeting.\n\nNo cost to attend  \nOnly registered participants may attend \nSpace is limited\, register early \nPlease arrive on time! Meetings begin promptly at scheduled times \nParticipants arriving late will not be admitted \nMeeting will not count towards training hours for stipend program \n\n 
URL:https://consortiumels.org/event/qcc-returning-workforce-pathways-stipend-program-spanish-2/
LOCATION:Consortium ELS\, 21250 Box Springs Rd\, Suite 214\, Moreno Valley\, CA\, 92557\, United States
CATEGORIES:Meetings,Spanish Training,Stipend Enrollment,Trainings
ATTACH;FMTTYPE=image/webp:https://consortiumels.org/wp-content/uploads/2025/07/Events-header.avif
ORGANIZER;CN="Jennifer Haessly":MAILTO:jhaessly@ConsortiumELS.org
END:VEVENT
BEGIN:VEVENT
DTSTART;TZID=America/Los_Angeles:20250823T090000
DTEND;TZID=America/Los_Angeles:20250823T110000
DTSTAMP:20260425T142700
CREATED:20250801T010416Z
LAST-MODIFIED:20250820T045415Z
UID:10000238-1755939600-1755946800@consortiumels.org
SUMMARY:QCC-Returning\, Workforce Pathways Stipend Program (English)
DESCRIPTION:QCC\, Workforce Pathways Stipend Program Returning Participants\nReturning participants are those that received a stipend check last program year 2024-2025. Everyone else is new. \nEnrollment Meetings  2025 – 2026 \nAt this meeting\, participants will: \n\nLearn about the Workforce Pathways Stipend Program (WPSP) Requirements\nComplete a WPSP Application \nComplete a Professional Educational and Development Plan \n\nPre-Registration is Mandatory for all meetings\nCheck-in 30 min before the meeting.\n\nNo cost to attend  \nOnly registered participants may attend \nSpace is limited\, register early \nPlease arrive on time! Meetings begin promptly at scheduled times \nParticipants arriving late will not be admitted \nMeeting will not count towards training hours for stipend program \n\n 
URL:https://consortiumels.org/event/qcc-returning-workforce-pathways-stipend-program-english/
LOCATION:Consortium ELS\, 21250 Box Springs Rd\, Suite 214\, Moreno Valley\, CA\, 92557\, United States
CATEGORIES:Meetings,Stipend Enrollment,Trainings
ATTACH;FMTTYPE=image/webp:https://consortiumels.org/wp-content/uploads/2025/07/Events-header.avif
ORGANIZER;CN="Jennifer Haessly":MAILTO:jhaessly@ConsortiumELS.org
END:VEVENT
END:VCALENDAR