BEGIN:VCALENDAR
VERSION:2.0
PRODID:-//Consortium for Early Learning Services - ECPv6.15.19//NONSGML v1.0//EN
CALSCALE:GREGORIAN
METHOD:PUBLISH
X-WR-CALNAME:Consortium for Early Learning Services
X-ORIGINAL-URL:https://consortiumels.org
X-WR-CALDESC:Events for Consortium for Early Learning Services
REFRESH-INTERVAL;VALUE=DURATION:PT1H
X-Robots-Tag:noindex
X-PUBLISHED-TTL:PT1H
BEGIN:VTIMEZONE
TZID:America/Los_Angeles
BEGIN:DAYLIGHT
TZOFFSETFROM:-0800
TZOFFSETTO:-0700
TZNAME:PDT
DTSTART:20250309T100000
END:DAYLIGHT
BEGIN:STANDARD
TZOFFSETFROM:-0700
TZOFFSETTO:-0800
TZNAME:PST
DTSTART:20251102T090000
END:STANDARD
BEGIN:DAYLIGHT
TZOFFSETFROM:-0800
TZOFFSETTO:-0700
TZNAME:PDT
DTSTART:20260308T100000
END:DAYLIGHT
BEGIN:STANDARD
TZOFFSETFROM:-0700
TZOFFSETTO:-0800
TZNAME:PST
DTSTART:20261101T090000
END:STANDARD
BEGIN:DAYLIGHT
TZOFFSETFROM:-0800
TZOFFSETTO:-0700
TZNAME:PDT
DTSTART:20270314T100000
END:DAYLIGHT
BEGIN:STANDARD
TZOFFSETFROM:-0700
TZOFFSETTO:-0800
TZNAME:PST
DTSTART:20271107T090000
END:STANDARD
END:VTIMEZONE
BEGIN:VEVENT
DTSTART;TZID=America/Los_Angeles:20260420T080000
DTEND;TZID=America/Los_Angeles:20260420T170000
DTSTAMP:20260420T124320
CREATED:20260420T154749Z
LAST-MODIFIED:20260420T154913Z
UID:8614-1776672000-1776704400@consortiumels.org
SUMMARY:Mommy & Me Wellness Tea Time
DESCRIPTION:Mommy & Me Wellness Tea Time \nA relaxing space to connect\, unwind and enjoy time with your little one \n\n\nGifts for all moms \n\n\nConnect to programs and resources \n\n\nLight refreshments \n\n\nARRIVE BY 1:30PM – MAY 13\, 2026 \nDESERT HOT SPRINGS – FAMILY RESOURCE CENTER \n14320 Palm Dr. Desert Hot Springs\, CA 92240\nQuestions: 760-288-3313
URL:https://consortiumels.org/event/mommy-me-wellness-tea-time/
CATEGORIES:Meetings
ATTACH;FMTTYPE=image/webp:https://consortiumels.org/wp-content/uploads/2026/04/Mommy-Me-WellnessTea_Page_1.webp
END:VEVENT
END:VCALENDAR